Package: cageminer Version: 1.14.2 Command: /Library/Frameworks/R.framework/Resources/bin/R CMD build --keep-empty-dirs --no-resave-data cageminer StartedAt: 2025-10-13 17:36:34 -0400 (Mon, 13 Oct 2025) EndedAt: 2025-10-13 17:41:20 -0400 (Mon, 13 Oct 2025) EllapsedTime: 286.3 seconds RetCode: 0 Status: OK PackageFile: cageminer_1.14.2.tar.gz PackageFileSize: 1.42 MiB