Package: cageminer Version: 1.14.0 Command: /Library/Frameworks/R.framework/Resources/bin/R CMD INSTALL cageminer StartedAt: 2025-04-21 15:24:09 -0400 (Mon, 21 Apr 2025) EndedAt: 2025-04-21 15:24:32 -0400 (Mon, 21 Apr 2025) EllapsedTime: 23.3 seconds RetCode: 0 Status: OK