Package: cBioPortalData Version: 2.22.1 Command: /home/biocbuild/R/R/bin/R CMD check --install=check:cBioPortalData.install-out.txt --library=/home/biocbuild/R/R/site-library --no-vignettes --timings cBioPortalData_2.22.1.tar.gz StartedAt: 2025-11-18 07:56:37 -0000 (Tue, 18 Nov 2025) EndedAt: 2025-11-18 08:03:59 -0000 (Tue, 18 Nov 2025) EllapsedTime: 442.4 seconds RetCode: 0 Status: OK CheckDir: cBioPortalData.Rcheck Warnings: 0