Package: cBioPortalData Version: 2.22.1 Command: /home/biocbuild/R/R/bin/R CMD build --keep-empty-dirs --no-resave-data cBioPortalData StartedAt: 2025-11-18 00:15:29 -0000 (Tue, 18 Nov 2025) EndedAt: 2025-11-18 00:19:02 -0000 (Tue, 18 Nov 2025) EllapsedTime: 213.1 seconds RetCode: 0 Status: OK PackageFile: cBioPortalData_2.22.1.tar.gz PackageFileSize: 1.056 MiB