Package: bugsigdbr Version: 1.15.3 Command: /home/biocbuild/R/R/bin/R CMD build --keep-empty-dirs --no-resave-data bugsigdbr StartedAt: 2025-10-20 22:24:41 -0000 (Mon, 20 Oct 2025) EndedAt: 2025-10-20 22:25:44 -0000 (Mon, 20 Oct 2025) EllapsedTime: 63.0 seconds RetCode: 0 Status: OK PackageFile: bugsigdbr_1.15.3.tar.gz PackageFileSize: 394.9 KiB