Package: bugsigdbr Version: 1.15.3 Command: F:\biocbuild\bbs-3.22-bioc\R\bin\R.exe CMD INSTALL bugsigdbr StartedAt: 2025-08-14 15:30:09 -0400 (Thu, 14 Aug 2025) EndedAt: 2025-08-14 15:30:23 -0400 (Thu, 14 Aug 2025) EllapsedTime: 13.4 seconds RetCode: 0 Status: OK