Package: bugsigdbr Version: 1.15.3 Command: chmod a+r bugsigdbr -R && F:\biocbuild\bbs-3.22-bioc\R\bin\R.exe CMD build --keep-empty-dirs --no-resave-data bugsigdbr StartedAt: 2025-08-14 18:52:23 -0400 (Thu, 14 Aug 2025) EndedAt: 2025-08-14 18:53:20 -0400 (Thu, 14 Aug 2025) EllapsedTime: 57.4 seconds RetCode: 0 Status: OK PackageFile: bugsigdbr_1.15.3.tar.gz PackageFileSize: 328.7 KiB