Package: bugsigdbr Version: 1.16.0 Command: /home/biocbuild/bbs-3.22-bioc/R/bin/R CMD INSTALL bugsigdbr StartedAt: 2025-11-09 15:09:36 -0500 (Sun, 09 Nov 2025) EndedAt: 2025-11-09 15:09:47 -0500 (Sun, 09 Nov 2025) EllapsedTime: 10.2 seconds RetCode: 0 Status: OK