Package: bugsigdbr Version: 1.16.0 Command: /home/biocbuild/bbs-3.22-bioc/R/bin/R CMD check --install=check:bugsigdbr.install-out.txt --library=/home/biocbuild/bbs-3.22-bioc/R/site-library --timings bugsigdbr_1.16.0.tar.gz StartedAt: 2025-11-09 21:51:33 -0500 (Sun, 09 Nov 2025) EndedAt: 2025-11-09 22:00:59 -0500 (Sun, 09 Nov 2025) EllapsedTime: 566.5 seconds RetCode: 1 Status: ERROR CheckDir: bugsigdbr.Rcheck Warnings: NA