Package: bugsigdbr Version: 1.16.0 Command: /Library/Frameworks/R.framework/Resources/bin/R CMD check --install=check:bugsigdbr.install-out.txt --library=/Library/Frameworks/R.framework/Resources/library --no-vignettes --timings bugsigdbr_1.16.0.tar.gz StartedAt: 2025-11-03 19:56:26 -0500 (Mon, 03 Nov 2025) EndedAt: 2025-11-03 20:01:37 -0500 (Mon, 03 Nov 2025) EllapsedTime: 311.1 seconds RetCode: 0 Status: OK CheckDir: bugsigdbr.Rcheck Warnings: 0