Package: bugsigdbr Version: 1.16.0 Command: /Library/Frameworks/R.framework/Resources/bin/R CMD INSTALL bugsigdbr StartedAt: 2025-11-20 16:15:29 -0500 (Thu, 20 Nov 2025) EndedAt: 2025-11-20 16:15:34 -0500 (Thu, 20 Nov 2025) EllapsedTime: 5.6 seconds RetCode: 0 Status: OK