Package: bugsigdbr Version: 1.16.0 Command: /Library/Frameworks/R.framework/Resources/bin/R CMD build --keep-empty-dirs --no-resave-data bugsigdbr StartedAt: 2025-11-17 19:32:35 -0500 (Mon, 17 Nov 2025) EndedAt: 2025-11-17 19:33:30 -0500 (Mon, 17 Nov 2025) EllapsedTime: 54.5 seconds RetCode: 0 Status: OK PackageFile: bugsigdbr_1.16.0.tar.gz PackageFileSize: 328.3 KiB