Package: bsseq Version: 1.45.4 Command: /home/biocbuild/R/R/bin/R CMD INSTALL bsseq StartedAt: 2025-10-23 20:49:24 -0000 (Thu, 23 Oct 2025) EndedAt: 2025-10-23 20:50:54 -0000 (Thu, 23 Oct 2025) EllapsedTime: 90.0 seconds RetCode: 0 Status: OK