Package: bsseq Version: 1.44.1 Command: E:\biocbuild\bbs-3.21-bioc\R\bin\R.exe CMD INSTALL bsseq StartedAt: 2025-08-14 16:33:51 -0400 (Thu, 14 Aug 2025) EndedAt: 2025-08-14 16:35:42 -0400 (Thu, 14 Aug 2025) EllapsedTime: 111.1 seconds RetCode: 0 Status: OK