Package: brendaDb Version: 1.23.0 Command: F:\biocbuild\bbs-3.22-bioc\R\bin\R.exe CMD check --no-multiarch --install=check:brendaDb.install-out.txt --library=F:\biocbuild\bbs-3.22-bioc\R\library --no-vignettes --timings brendaDb_1.23.0.tar.gz StartedAt: 2025-08-15 01:12:08 -0400 (Fri, 15 Aug 2025) EndedAt: 2025-08-15 01:14:35 -0400 (Fri, 15 Aug 2025) EllapsedTime: 147.2 seconds RetCode: 0 Status: OK CheckDir: brendaDb.Rcheck Warnings: 0