Package: borealis Version: 1.14.0 Command: /home/biocbuild/R/R/bin/R CMD build --keep-empty-dirs --no-resave-data borealis StartedAt: 2025-11-14 00:10:21 -0000 (Fri, 14 Nov 2025) EndedAt: 2025-11-14 00:13:30 -0000 (Fri, 14 Nov 2025) EllapsedTime: 189.1 seconds RetCode: 0 Status: OK PackageFile: borealis_1.14.0.tar.gz PackageFileSize: 383 KiB