Package: bnem Version: 1.16.0 Command: /Library/Frameworks/R.framework/Resources/bin/R CMD check --install=check:bnem.install-out.txt --library=/Library/Frameworks/R.framework/Resources/library --no-vignettes --timings bnem_1.16.0.tar.gz StartedAt: 2025-10-14 00:49:20 -0400 (Tue, 14 Oct 2025) EndedAt: 2025-10-14 00:57:48 -0400 (Tue, 14 Oct 2025) EllapsedTime: 507.7 seconds RetCode: 0 Status: OK CheckDir: bnem.Rcheck Warnings: 0