Package: bnem Version: 1.16.0 Command: rm -rf bnem.buildbin-libdir && mkdir bnem.buildbin-libdir && /Users/biocbuild/BBS/utils/build-universal.sh bnem_1.16.0.tar.gz /Library/Frameworks/R.framework/Resources/bin/R bnem.buildbin-libdir StartedAt: 2025-10-14 12:56:18 -0400 (Tue, 14 Oct 2025) EndedAt: 2025-10-14 12:57:39 -0400 (Tue, 14 Oct 2025) EllapsedTime: 81.7 seconds RetCode: 0 Status: OK PackageFile: bnem_1.16.0.tgz PackageFileSize: 1.958 MiB