Package: bnbc Version: 1.30.0 Command: rm -rf bnbc.buildbin-libdir && mkdir bnbc.buildbin-libdir && E:\biocbuild\bbs-3.21-bioc\R\bin\R.exe CMD INSTALL --build --library=bnbc.buildbin-libdir bnbc_1.30.0.tar.gz StartedAt: 2025-08-15 08:53:13 -0400 (Fri, 15 Aug 2025) EndedAt: 2025-08-15 08:54:08 -0400 (Fri, 15 Aug 2025) EllapsedTime: 55.3 seconds RetCode: 0 Status: OK PackageFile: bnbc_1.30.0.zip PackageFileSize: 4.854 MiB