Package: blase Version: 1.0.0 Command: /Library/Frameworks/R.framework/Resources/bin/R CMD check --install=check:blase.install-out.txt --library=/Library/Frameworks/R.framework/Resources/library --no-vignettes --timings blase_1.0.0.tar.gz StartedAt: 2025-11-10 19:00:48 -0500 (Mon, 10 Nov 2025) EndedAt: 2025-11-10 19:03:39 -0500 (Mon, 10 Nov 2025) EllapsedTime: 171.1 seconds RetCode: 0 Status: OK CheckDir: blase.Rcheck Warnings: 0