Package: biovizBase Version: 1.56.0 Command: /Library/Frameworks/R.framework/Resources/bin/R CMD INSTALL biovizBase StartedAt: 2025-10-13 16:14:09 -0400 (Mon, 13 Oct 2025) EndedAt: 2025-10-13 16:15:56 -0400 (Mon, 13 Oct 2025) EllapsedTime: 107.5 seconds RetCode: 0 Status: OK