Package: biovizBase Version: 1.56.0 Command: /Library/Frameworks/R.framework/Resources/bin/R CMD check --install=check:biovizBase.install-out.txt --library=/Library/Frameworks/R.framework/Resources/library --no-vignettes --timings biovizBase_1.56.0.tar.gz StartedAt: 2025-10-14 00:47:03 -0400 (Tue, 14 Oct 2025) EndedAt: 2025-10-14 00:59:36 -0400 (Tue, 14 Oct 2025) EllapsedTime: 752.4 seconds RetCode: 0 Status: WARNINGS CheckDir: biovizBase.Rcheck Warnings: 2