Package: biovizBase Version: 1.56.0 Command: /Library/Frameworks/R.framework/Resources/bin/R CMD build --keep-empty-dirs --no-resave-data biovizBase StartedAt: 2025-10-13 17:29:07 -0400 (Mon, 13 Oct 2025) EndedAt: 2025-10-13 17:31:34 -0400 (Mon, 13 Oct 2025) EllapsedTime: 146.9 seconds RetCode: 0 Status: OK PackageFile: biovizBase_1.56.0.tar.gz PackageFileSize: 2.397 MiB