Package: biovizBase Version: 1.56.0 Command: /home/biocbuild/R/R/bin/R CMD check --install=check:biovizBase.install-out.txt --library=/home/biocbuild/R/R/site-library --no-vignettes --timings biovizBase_1.56.0.tar.gz StartedAt: 2025-10-14 06:57:57 -0000 (Tue, 14 Oct 2025) EndedAt: 2025-10-14 07:06:09 -0000 (Tue, 14 Oct 2025) EllapsedTime: 492.4 seconds RetCode: 0 Status: WARNINGS CheckDir: biovizBase.Rcheck Warnings: 2