Package: biotmle Version: 1.33.0 Command: F:\biocbuild\bbs-3.22-bioc\R\bin\R.exe CMD INSTALL biotmle StartedAt: 2025-08-14 16:30:03 -0400 (Thu, 14 Aug 2025) EndedAt: 2025-08-14 16:30:38 -0400 (Thu, 14 Aug 2025) EllapsedTime: 35.4 seconds RetCode: 0 Status: OK