Package: biotmle Version: 1.33.0 Command: chmod a+r biotmle -R && F:\biocbuild\bbs-3.22-bioc\R\bin\R.exe CMD build --keep-empty-dirs --no-resave-data biotmle StartedAt: 2025-08-14 18:48:29 -0400 (Thu, 14 Aug 2025) EndedAt: 2025-08-14 18:50:17 -0400 (Thu, 14 Aug 2025) EllapsedTime: 107.4 seconds RetCode: 0 Status: OK PackageFile: biotmle_1.33.0.tar.gz PackageFileSize: 269.5 KiB