Package: biotmle Version: 1.33.0 Command: rm -rf biotmle.buildbin-libdir && mkdir biotmle.buildbin-libdir && F:\biocbuild\bbs-3.22-bioc\R\bin\R.exe CMD INSTALL --build --library=biotmle.buildbin-libdir biotmle_1.33.0.tar.gz StartedAt: 2025-08-15 09:51:15 -0400 (Fri, 15 Aug 2025) EndedAt: 2025-08-15 09:51:52 -0400 (Fri, 15 Aug 2025) EllapsedTime: 37.4 seconds RetCode: 0 Status: OK PackageFile: biotmle_1.33.0.zip PackageFileSize: 324.8 KiB