Package: biotmle Version: 1.34.0 Command: /home/biocbuild/bbs-3.22-bioc/R/bin/R CMD check --install=check:biotmle.install-out.txt --library=/home/biocbuild/bbs-3.22-bioc/R/site-library --timings biotmle_1.34.0.tar.gz StartedAt: 2025-11-06 21:32:11 -0500 (Thu, 06 Nov 2025) EndedAt: 2025-11-06 21:36:30 -0500 (Thu, 06 Nov 2025) EllapsedTime: 259.2 seconds RetCode: 0 Status: OK CheckDir: biotmle.Rcheck Warnings: 0