Package: biotmle Version: 1.34.0 Command: /home/biocbuild/bbs-3.22-bioc/R/bin/R CMD build --keep-empty-dirs --no-resave-data --md5 biotmle StartedAt: 2025-11-06 16:32:52 -0500 (Thu, 06 Nov 2025) EndedAt: 2025-11-06 16:34:04 -0500 (Thu, 06 Nov 2025) EllapsedTime: 72.1 seconds RetCode: 0 Status: OK PackageFile: biotmle_1.34.0.tar.gz PackageFileSize: 314.9 KiB