Package: biotmle Version: 1.34.0 Command: /Library/Frameworks/R.framework/Resources/bin/R CMD check --install=check:biotmle.install-out.txt --library=/Library/Frameworks/R.framework/Resources/library --no-vignettes --timings biotmle_1.34.0.tar.gz StartedAt: 2025-11-09 18:45:37 -0500 (Sun, 09 Nov 2025) EndedAt: 2025-11-09 18:47:01 -0500 (Sun, 09 Nov 2025) EllapsedTime: 84.9 seconds RetCode: 0 Status: OK CheckDir: biotmle.Rcheck Warnings: 0