Package: biosigner Version: 1.37.4 Command: /home/biocbuild/R/R/bin/R CMD INSTALL biosigner StartedAt: 2025-10-23 21:00:52 -0000 (Thu, 23 Oct 2025) EndedAt: 2025-10-23 21:01:26 -0000 (Thu, 23 Oct 2025) EllapsedTime: 33.9 seconds RetCode: 0 Status: OK