Package: biosigner Version: 1.37.4 Command: /home/biocbuild/R/R/bin/R CMD check --install=check:biosigner.install-out.txt --library=/home/biocbuild/R/R/site-library --no-vignettes --timings biosigner_1.37.4.tar.gz StartedAt: 2025-10-21 05:33:28 -0000 (Tue, 21 Oct 2025) EndedAt: 2025-10-21 06:08:55 -0000 (Tue, 21 Oct 2025) EllapsedTime: 2126.3 seconds RetCode: 1 Status: ERROR CheckDir: biosigner.Rcheck Warnings: NA