Package: biosigner Version: 1.37.4 Command: /home/biocbuild/R/R/bin/R CMD build --keep-empty-dirs --no-resave-data biosigner StartedAt: 2025-10-20 22:18:14 -0000 (Mon, 20 Oct 2025) EndedAt: 2025-10-20 22:22:08 -0000 (Mon, 20 Oct 2025) EllapsedTime: 234.1 seconds RetCode: 0 Status: OK PackageFile: biosigner_1.37.4.tar.gz PackageFileSize: 4.142 MiB