Package: biosigner Version: 1.38.0 Command: /home/biocbuild/bbs-3.22-bioc/R/bin/R CMD check --install=check:biosigner.install-out.txt --library=/home/biocbuild/bbs-3.22-bioc/R/site-library --timings biosigner_1.38.0.tar.gz StartedAt: 2025-11-09 21:43:29 -0500 (Sun, 09 Nov 2025) EndedAt: 2025-11-09 21:50:24 -0500 (Sun, 09 Nov 2025) EllapsedTime: 415.3 seconds RetCode: 0 Status: OK CheckDir: biosigner.Rcheck Warnings: 0