Package: biomvRCNS Version: 1.50.0 Command: /Library/Frameworks/R.framework/Resources/bin/R CMD check --install=check:biomvRCNS.install-out.txt --library=/Library/Frameworks/R.framework/Resources/library --no-vignettes --timings biomvRCNS_1.50.0.tar.gz StartedAt: 2025-11-10 18:59:07 -0500 (Mon, 10 Nov 2025) EndedAt: 2025-11-10 19:01:22 -0500 (Mon, 10 Nov 2025) EllapsedTime: 134.5 seconds RetCode: 0 Status: OK CheckDir: biomvRCNS.Rcheck Warnings: 0