Package: biomvRCNS Version: 1.50.0 Command: /Library/Frameworks/R.framework/Resources/bin/R CMD build --keep-empty-dirs --no-resave-data biomvRCNS StartedAt: 2025-11-10 15:46:28 -0500 (Mon, 10 Nov 2025) EndedAt: 2025-11-10 15:47:15 -0500 (Mon, 10 Nov 2025) EllapsedTime: 47.5 seconds RetCode: 0 Status: OK PackageFile: biomvRCNS_1.50.0.tar.gz PackageFileSize: 807.1 KiB