Package: biomvRCNS Version: 1.50.0 Command: rm -rf biomvRCNS.buildbin-libdir && mkdir biomvRCNS.buildbin-libdir && /Users/biocbuild/BBS/utils/build-universal.sh biomvRCNS_1.50.0.tar.gz /Library/Frameworks/R.framework/Resources/bin/R biomvRCNS.buildbin-libdir StartedAt: 2025-11-10 23:12:53 -0500 (Mon, 10 Nov 2025) EndedAt: 2025-11-10 23:13:18 -0500 (Mon, 10 Nov 2025) EllapsedTime: 24.5 seconds RetCode: 0 Status: OK PackageFile: biomvRCNS_1.50.0.tgz PackageFileSize: 1.266 MiB