Package: biomformat Version: 1.38.0 Command: /home/biocbuild/bbs-3.22-bioc/R/bin/R CMD INSTALL biomformat StartedAt: 2025-11-06 15:07:10 -0500 (Thu, 06 Nov 2025) EndedAt: 2025-11-06 15:07:21 -0500 (Thu, 06 Nov 2025) EllapsedTime: 11.2 seconds RetCode: 0 Status: OK