Package: biomformat Version: 1.38.0 Command: /home/biocbuild/bbs-3.22-bioc/R/bin/R CMD check --install=check:biomformat.install-out.txt --library=/home/biocbuild/bbs-3.22-bioc/R/site-library --timings biomformat_1.38.0.tar.gz StartedAt: 2025-11-06 21:30:15 -0500 (Thu, 06 Nov 2025) EndedAt: 2025-11-06 21:31:26 -0500 (Thu, 06 Nov 2025) EllapsedTime: 71.1 seconds RetCode: 0 Status: OK CheckDir: biomformat.Rcheck Warnings: 0