Package: biomformat Version: 1.38.0 Command: /home/biocbuild/bbs-3.22-bioc/R/bin/R CMD build --keep-empty-dirs --no-resave-data --md5 biomformat StartedAt: 2025-11-06 16:31:50 -0500 (Thu, 06 Nov 2025) EndedAt: 2025-11-06 16:32:02 -0500 (Thu, 06 Nov 2025) EllapsedTime: 12.0 seconds RetCode: 0 Status: OK PackageFile: biomformat_1.38.0.tar.gz PackageFileSize: 339.3 KiB