Package: biomaRt Version: 2.64.0 Command: /Library/Frameworks/R.framework/Resources/bin/R CMD INSTALL biomaRt StartedAt: 2025-09-29 15:45:10 -0400 (Mon, 29 Sep 2025) EndedAt: 2025-09-29 15:45:47 -0400 (Mon, 29 Sep 2025) EllapsedTime: 36.7 seconds RetCode: 0 Status: OK