Package: biomaRt Version: 2.64.0 Command: /Library/Frameworks/R.framework/Resources/bin/R CMD check --install=check:biomaRt.install-out.txt --library=/Library/Frameworks/R.framework/Resources/library --no-vignettes --timings biomaRt_2.64.0.tar.gz StartedAt: 2025-09-30 00:41:50 -0400 (Tue, 30 Sep 2025) EndedAt: 2025-09-30 00:46:18 -0400 (Tue, 30 Sep 2025) EllapsedTime: 267.4 seconds RetCode: 0 Status: OK CheckDir: biomaRt.Rcheck Warnings: 0