Package: biomaRt Version: 2.64.0 Command: /Library/Frameworks/R.framework/Resources/bin/R CMD build --keep-empty-dirs --no-resave-data biomaRt StartedAt: 2025-09-29 17:26:03 -0400 (Mon, 29 Sep 2025) EndedAt: 2025-09-29 17:28:33 -0400 (Mon, 29 Sep 2025) EllapsedTime: 150.4 seconds RetCode: 0 Status: OK PackageFile: biomaRt_2.64.0.tar.gz PackageFileSize: 842.4 KiB