Package: biodbUniprot Version: 1.16.0 Command: /home/biocbuild/bbs-3.22-bioc/R/bin/R CMD build --keep-empty-dirs --no-resave-data --md5 biodbUniprot StartedAt: 2025-11-06 16:31:36 -0500 (Thu, 06 Nov 2025) EndedAt: 2025-11-06 16:31:47 -0500 (Thu, 06 Nov 2025) EllapsedTime: 11.0 seconds RetCode: 1 Status: ERROR PackageFile: None PackageFileSize: NA