Package: biodbNcbi Version: 1.14.0 Command: /home/biocbuild/bbs-3.22-bioc/R/bin/R CMD build --keep-empty-dirs --no-resave-data --md5 biodbNcbi StartedAt: 2025-11-02 16:45:33 -0500 (Sun, 02 Nov 2025) EndedAt: 2025-11-02 16:45:48 -0500 (Sun, 02 Nov 2025) EllapsedTime: 15.0 seconds RetCode: 1 Status: ERROR PackageFile: None PackageFileSize: NA