Package: biodbChebi Version: 1.16.0 Command: /home/biocbuild/bbs-3.22-bioc/R/bin/R CMD build --keep-empty-dirs --no-resave-data --md5 biodbChebi StartedAt: 2025-11-17 19:46:20 -0500 (Mon, 17 Nov 2025) EndedAt: 2025-11-17 19:46:59 -0500 (Mon, 17 Nov 2025) EllapsedTime: 38.0 seconds RetCode: 1 Status: ERROR PackageFile: None PackageFileSize: NA