Package: biodb Version: 1.16.0 Command: E:\biocbuild\bbs-3.21-bioc\R\bin\R.exe CMD check --no-multiarch --install=check:biodb.install-out.txt --library=E:\biocbuild\bbs-3.21-bioc\R\library --no-vignettes --timings biodb_1.16.0.tar.gz StartedAt: 2025-08-14 23:52:28 -0400 (Thu, 14 Aug 2025) EndedAt: 2025-08-15 00:05:50 -0400 (Fri, 15 Aug 2025) EllapsedTime: 802.8 seconds RetCode: 0 Status: WARNINGS CheckDir: biodb.Rcheck Warnings: 1