Package: biodb Version: 1.16.1 Command: /home/biocbuild/bbs-3.21-bioc/R/bin/R CMD INSTALL biodb StartedAt: 2025-10-15 15:09:42 -0400 (Wed, 15 Oct 2025) EndedAt: 2025-10-15 15:10:27 -0400 (Wed, 15 Oct 2025) EllapsedTime: 44.9 seconds RetCode: 0 Status: OK