Package: biodb Version: 1.16.1 Command: /home/biocbuild/R/R/bin/R CMD check --install=check:biodb.install-out.txt --library=/home/biocbuild/R/R/site-library --no-vignettes --timings biodb_1.16.1.tar.gz StartedAt: 2025-10-14 06:45:52 -0000 (Tue, 14 Oct 2025) EndedAt: 2025-10-14 06:59:32 -0000 (Tue, 14 Oct 2025) EllapsedTime: 819.4 seconds RetCode: 0 Status: WARNINGS CheckDir: biodb.Rcheck Warnings: 1