Package: biodb Version: 1.16.1 Command: /home/biocbuild/R/R/bin/R CMD build --keep-empty-dirs --no-resave-data biodb StartedAt: 2025-10-13 23:08:25 -0000 (Mon, 13 Oct 2025) EndedAt: 2025-10-13 23:09:58 -0000 (Mon, 13 Oct 2025) EllapsedTime: 93.0 seconds RetCode: 0 Status: OK PackageFile: biodb_1.16.1.tar.gz PackageFileSize: 1.308 MiB